BEGIN:VCALENDAR
VERSION:2.0
PRODID:-//eventon.com NONSGML v1.0//EN
CALSCALE:GREGORIAN
METHOD:PUBLISH
BEGIN:VEVENT
UID:69e7339d360a5
DTSTAMP:20260421T082149Z
DTSTART:20230327T003000Z
DTEND:20230405T063000Z
LOCATION:
SUMMARY:Book Fair
DESCRIPTION:Book Fair\nhttps://woodlandgroveps.wa.edu.au/events/book-fair-6
 /
URL:https://woodlandgroveps.wa.edu.au/events/book-fair-6/
END:VEVENT
END:VCALENDAR