BEGIN:VCALENDAR
VERSION:2.0
PRODID:-//eventon.com NONSGML v1.0//EN
CALSCALE:GREGORIAN
METHOD:PUBLISH
BEGIN:VEVENT
UID:69ebae17590a4
DTSTAMP:20260424T175327Z
DTSTART:20170605T083000Z
DTEND:20170605T144500Z
LOCATION:Woodland Grove Primary School 15 McMILLAN ROAD\,  BYFORD WA 6122
SUMMARY:Public Holiday - WA DAY
DESCRIPTION:\nhttps://woodlandgroveps.wa.edu.au/events/public-holiday-wa-da
 y/
URL:https://woodlandgroveps.wa.edu.au/events/public-holiday-wa-day/
END:VEVENT
END:VCALENDAR