BEGIN:VCALENDAR
VERSION:2.0
PRODID:-//eventon.com NONSGML v1.0//EN
CALSCALE:GREGORIAN
METHOD:PUBLISH
BEGIN:VEVENT
UID:69ebae74784ff
DTSTAMP:20260424T175500Z
DTSTART:20170505T080000Z
DTEND:20170505T143000Z
LOCATION:Woodland Grove Primary School 15 McMILLAN ROAD\,  BYFORD WA 6122
SUMMARY:Whole School Crazy Hair day
DESCRIPTION:Whole school&nbsp;crazy hair and crazy sock&nbsp;day today. &nb
 sp;\nhttps://woodlandgroveps.wa.edu.au/events/leavers-crazy-hair-day/
URL:https://woodlandgroveps.wa.edu.au/events/leavers-crazy-hair-day/
END:VEVENT
END:VCALENDAR