BEGIN:VCALENDAR
VERSION:2.0
PRODID:-//eventon.com NONSGML v1.0//EN
CALSCALE:GREGORIAN
METHOD:PUBLISH
BEGIN:VEVENT
UID:69e7485dc2be6
DTSTAMP:20260421T095021Z
DTSTART:20221128T080000Z
DTEND:20221128T091500Z
LOCATION:
SUMMARY:BYOD Presentation & Year 6\,  2023 Parent Information Session
DESCRIPTION:BYOD Presentation & Year 6\,  2023 Parent Information Session\n
 https://woodlandgroveps.wa.edu.au/events/year-5-parent-meeting/
URL:https://woodlandgroveps.wa.edu.au/events/year-5-parent-meeting/
END:VEVENT
END:VCALENDAR