BEGIN:VCALENDAR
VERSION:2.0
PRODID:-//eventon.com NONSGML v1.0//EN
CALSCALE:GREGORIAN
METHOD:PUBLISH
BEGIN:VEVENT
UID:69e74c050b05c
DTSTAMP:20260421T100557Z
DTSTART:20211027T010000Z
DTEND:20211027T050000Z
LOCATION:
SUMMARY:Kindy Carnival - Teal
DESCRIPTION:Kindy Carnival - Teal\nhttps://woodlandgroveps.wa.edu.au/events
 /kindy-carnival-teal/
URL:https://woodlandgroveps.wa.edu.au/events/kindy-carnival-teal/
END:VEVENT
END:VCALENDAR