BEGIN:VCALENDAR
VERSION:2.0
PRODID:-//eventon.com NONSGML v1.0//EN
CALSCALE:GREGORIAN
METHOD:PUBLISH
BEGIN:VEVENT
UID:69e88f8d64dba
DTSTAMP:20260422T090621Z
DTSTART:20211111T023000Z
DTEND:20211111T033000Z
LOCATION:
SUMMARY:10.30am Remembrance Day Assembly
DESCRIPTION:10.30am Remembrance Day Assembly\nhttps://woodlandgroveps.wa.ed
 u.au/events/11am-remembrance-day-assembly/
URL:https://woodlandgroveps.wa.edu.au/events/11am-remembrance-day-assembly/
END:VEVENT
END:VCALENDAR