BEGIN:VCALENDAR
VERSION:2.0
PRODID:-//eventon.com NONSGML v1.0//EN
CALSCALE:GREGORIAN
METHOD:PUBLISH
BEGIN:VEVENT
UID:69e748d6d3a28
DTSTAMP:20260421T095222Z
DTSTART:20210915T054500Z
DTEND:20210915T063000Z
LOCATION:
SUMMARY:1.45pm – Whole School Performance Assembly
DESCRIPTION:1.45pm – Whole School Performance Assembly\nhttps://woodlandg
 roveps.wa.edu.au/events/1-45pm-whole-school-performance-assembly-2/
URL:https://woodlandgroveps.wa.edu.au/events/1-45pm-whole-school-performance-assembly-2/
END:VEVENT
END:VCALENDAR