BEGIN:VCALENDAR
VERSION:2.0
PRODID:-//eventon.com NONSGML v1.0//EN
CALSCALE:GREGORIAN
METHOD:PUBLISH
BEGIN:VEVENT
UID:69e5ec165aae3
DTSTAMP:20260420T090422Z
DTSTART:20210831
DTEND:20210901
LOCATION:
SUMMARY:Interhouse Jumps & Throws
DESCRIPTION:Times to be confirmed\nhttps://woodlandgroveps.wa.edu.au/events
 /interhouse-jumps-throws/
URL:https://woodlandgroveps.wa.edu.au/events/interhouse-jumps-throws/
END:VEVENT
END:VCALENDAR