BEGIN:VCALENDAR
VERSION:2.0
PRODID:-//eventon.com NONSGML v1.0//EN
CALSCALE:GREGORIAN
METHOD:PUBLISH
BEGIN:VEVENT
UID:69e74807b2431
DTSTAMP:20260421T094855Z
DTSTART:20210520T060000Z
DTEND:20210520T080000Z
LOCATION:
SUMMARY:2pm School Board Meeting
DESCRIPTION:2pm School Board Meeting\nhttps://woodlandgroveps.wa.edu.au/eve
 nts/2pm-school-board-meeting/
URL:https://woodlandgroveps.wa.edu.au/events/2pm-school-board-meeting/
END:VEVENT
END:VCALENDAR