BEGIN:VCALENDAR
VERSION:2.0
PRODID:-//eventon.com NONSGML v1.0//EN
CALSCALE:GREGORIAN
METHOD:PUBLISH
BEGIN:VEVENT
UID:69e601f78e2ca
DTSTAMP:20260420T103743Z
DTSTART:20200626T090000Z
DTEND:20200626T143000Z
LOCATION:
SUMMARY:Winter Carnival- CANCELLED
DESCRIPTION:Winter Carnival (AFL\,  Netball\,  Soccer) &#8211; Year 5/6 &#8
 211; Time to be confirmed\nhttps://woodlandgroveps.wa.edu.au/events/winter-
 carnival/
URL:https://woodlandgroveps.wa.edu.au/events/winter-carnival/
END:VEVENT
END:VCALENDAR