BEGIN:VCALENDAR
VERSION:2.0
PRODID:-//eventon.com NONSGML v1.0//EN
CALSCALE:GREGORIAN
METHOD:PUBLISH
BEGIN:VEVENT
UID:69e5f2a5656f1
DTSTAMP:20260420T093221Z
DTSTART:20200226T080000Z
DTEND:20200226T110000Z
LOCATION:
SUMMARY:Uniform Shop
DESCRIPTION:Uniform Shop Open 8.00am &#8211; 11.00am\nhttps://woodlandgrove
 ps.wa.edu.au/events/uniform-shop-6/
URL:https://woodlandgroveps.wa.edu.au/events/uniform-shop-6/
END:VEVENT
END:VCALENDAR