BEGIN:VCALENDAR
VERSION:2.0
PRODID:-//eventon.com NONSGML v1.0//EN
CALSCALE:GREGORIAN
METHOD:PUBLISH
BEGIN:VEVENT
UID:69ebae478b8f4
DTSTAMP:20260424T175415Z
DTSTART:20191016T133000Z
DTEND:20191017T170000Z
LOCATION:
SUMMARY:WGPS Arts Festival 2019
DESCRIPTION:Wednesday 16th of October&nbsp; Coffee Van- 1:30pm to 5pm Conce
 rt On the Green- 1:30pm to 2pm Art of Recycling Exhibition- 2pm to 5pm Sile
 nt Auction 2pm to 5pm&nbsp; &nbsp; Thursday 17th of October&nbsp; Art of Re
 cycling Exhibition- 8am to 3pm Silent Auction Closes 3pm\nhttps://woodlandg
 roveps.wa.edu.au/events/wgps-arts-festival-2019/
URL:https://woodlandgroveps.wa.edu.au/events/wgps-arts-festival-2019/
END:VEVENT
END:VCALENDAR