BEGIN:VCALENDAR
VERSION:2.0
PRODID:-//eventon.com NONSGML v1.0//EN
CALSCALE:GREGORIAN
METHOD:PUBLISH
BEGIN:VEVENT
UID:69e5eca477f27
DTSTAMP:20260420T090644Z
DTSTART:20190827T090000Z
DTEND:20190827T010000Z
LOCATION:
SUMMARY:Father's Day Stall
DESCRIPTION:More details to come\nhttps://woodlandgroveps.wa.edu.au/events/
 fathers-day-stall-3/
URL:https://woodlandgroveps.wa.edu.au/events/fathers-day-stall-3/
END:VEVENT
END:VCALENDAR