BEGIN:VCALENDAR
VERSION:2.0
PRODID:-//eventon.com NONSGML v1.0//EN
CALSCALE:GREGORIAN
METHOD:PUBLISH
BEGIN:VEVENT
UID:69ebb260ba9d5
DTSTAMP:20260424T181144Z
DTSTART:20190321T083000Z
DTEND:20190321T143000Z
LOCATION:Woodland Grove Primary School 15 McMILLAN ROAD\,  BYFORD WA 6122
SUMMARY:Harmony Day
DESCRIPTION:Harmony Day Children dress in orange An assembly will be held i
 n The Arena at 8:30am\nhttps://woodlandgroveps.wa.edu.au/events/harmony-day
 /
URL:https://woodlandgroveps.wa.edu.au/events/harmony-day/
END:VEVENT
END:VCALENDAR