BEGIN:VCALENDAR
VERSION:2.0
PRODID:-//eventon.com NONSGML v1.0//EN
CALSCALE:GREGORIAN
METHOD:PUBLISH
BEGIN:VEVENT
UID:69e4e78689fa4
DTSTAMP:20260419T143238Z
DTSTART:20190213T173000Z
DTEND:20190213T183000Z
LOCATION:Woodland Grove Primary School 15 McMILLAN ROAD\,  BYFORD WA 6122
SUMMARY:Cyber Safety Parent session 5:30pm
DESCRIPTION:Cyber Safety Parent session 5:30pm\nhttps://woodlandgroveps.wa.
 edu.au/events/cyber-safety-parent-session-530pm/
URL:https://woodlandgroveps.wa.edu.au/events/cyber-safety-parent-session-530pm/
END:VEVENT
END:VCALENDAR