BEGIN:VCALENDAR
VERSION:2.0
PRODID:-//eventon.com NONSGML v1.0//EN
CALSCALE:GREGORIAN
METHOD:PUBLISH
BEGIN:VEVENT
UID:69ebb1908e04d
DTSTAMP:20260424T180816Z
DTSTART:20190213T133000Z
DTEND:20190213T143000Z
LOCATION:Woodland Grove Primary School 15 McMILLAN ROAD\,  BYFORD WA 6122
SUMMARY:Cyber Safety Incursion Yrs 5 & 6
DESCRIPTION:Cyber Safety Incursion Yrs 5 &amp; 6 1:30pm – 2:30pm\nhttps:/
 /woodlandgroveps.wa.edu.au/events/cyber-safety-incursion-yrs-5-6/
URL:https://woodlandgroveps.wa.edu.au/events/cyber-safety-incursion-yrs-5-6/
END:VEVENT
END:VCALENDAR