BEGIN:VCALENDAR
VERSION:2.0
PRODID:-//eventon.com NONSGML v1.0//EN
CALSCALE:GREGORIAN
METHOD:PUBLISH
BEGIN:VEVENT
UID:69ebb208a94dc
DTSTAMP:20260424T181016Z
DTSTART:20190206T083000Z
DTEND:20190206T143000Z
LOCATION:Woodland Grove Primary School 15 McMILLAN ROAD\,  BYFORD WA 6122
SUMMARY:Kindy Gold First day
DESCRIPTION:Kindy Gold first day of school commences today\nhttps://woodlan
 dgroveps.wa.edu.au/events/kindy-gold-first-day/
URL:https://woodlandgroveps.wa.edu.au/events/kindy-gold-first-day/
END:VEVENT
END:VCALENDAR