BEGIN:VCALENDAR
VERSION:2.0
PRODID:-//eventon.com NONSGML v1.0//EN
CALSCALE:GREGORIAN
METHOD:PUBLISH
BEGIN:VEVENT
UID:69ebb20870a21
DTSTAMP:20260424T181016Z
DTSTART:20191120T134500Z
DTEND:20191120T143000Z
LOCATION:Woodland Grove Primary School - Arena 15 McMILLAN ROAD\,  BYFORD WA 6122
SUMMARY:1.45pm Whole School Assembly
DESCRIPTION:1.45pm Whole School Assembly Performance by classes STTR1 &amp;
  STTR5\nhttps://woodlandgroveps.wa.edu.au/events/1-45pm-whole-school-assemb
 ly-4/
URL:https://woodlandgroveps.wa.edu.au/events/1-45pm-whole-school-assembly-4/
END:VEVENT
END:VCALENDAR