BEGIN:VCALENDAR
VERSION:2.0
PRODID:-//eventon.com NONSGML v1.0//EN
CALSCALE:GREGORIAN
METHOD:PUBLISH
BEGIN:VEVENT
UID:69e749b3c498e
DTSTAMP:20260421T095603Z
DTSTART:20190605T134500Z
DTEND:20190605T143000Z
LOCATION:Woodland Grove Primary School - Arena 15 McMILLAN ROAD\,  BYFORD WA 6122
SUMMARY:1.45pm Whole School Assembly
DESCRIPTION:1.45pm Whole School Assembly Performance by CL1 &amp; CL2 &amp;
  BR3\nhttps://woodlandgroveps.wa.edu.au/events/1-45pm-whole-school-assembly
 -3/
URL:https://woodlandgroveps.wa.edu.au/events/1-45pm-whole-school-assembly-3/
END:VEVENT
END:VCALENDAR