BEGIN:VCALENDAR
VERSION:2.0
PRODID:-//eventon.com NONSGML v1.0//EN
CALSCALE:GREGORIAN
METHOD:PUBLISH
BEGIN:VEVENT
UID:69ebb2a919fbf
DTSTAMP:20260424T181257Z
DTSTART:20190329T140000Z
DTEND:20190329T160000Z
LOCATION:Woodland Grove Primary School - Boardroom 15 McMillan Road\,  BYFORD
SUMMARY:School Board 2pm
DESCRIPTION:School Board 2pm\nhttps://woodlandgroveps.wa.edu.au/events/scho
 ol-board-4pm-5/
URL:https://woodlandgroveps.wa.edu.au/events/school-board-4pm-5/
END:VEVENT
END:VCALENDAR