BEGIN:VCALENDAR
VERSION:2.0
PRODID:-//eventon.com NONSGML v1.0//EN
CALSCALE:GREGORIAN
METHOD:PUBLISH
BEGIN:VEVENT
UID:69ebb152253d8
DTSTAMP:20260424T180714Z
DTSTART:20190307T160000Z
DTEND:20190307T170000Z
LOCATION:Woodland Grove Primary School - Boardroom 15 McMillan Road\,  BYFORD
SUMMARY:School Board 4pm
DESCRIPTION:School Board 4pm\nhttps://woodlandgroveps.wa.edu.au/events/scho
 ol-board-4pm-4/
URL:https://woodlandgroveps.wa.edu.au/events/school-board-4pm-4/
END:VEVENT
END:VCALENDAR