BEGIN:VCALENDAR
VERSION:2.0
PRODID:-//eventon.com NONSGML v1.0//EN
CALSCALE:GREGORIAN
METHOD:PUBLISH
BEGIN:VEVENT
UID:69ebb035b513d
DTSTAMP:20260424T180229Z
DTSTART:20190201T130000Z
DTEND:20190201T160000Z
LOCATION:Woodland Grove Primary School 15 McMILLAN ROAD\,  BYFORD WA 6122
SUMMARY:1pm - 2019 Class list displayed
DESCRIPTION:1pm &#8211; 2019 Class list displayed\nhttps://woodlandgroveps.
 wa.edu.au/events/1pm-2019-class-list-displayed/
URL:https://woodlandgroveps.wa.edu.au/events/1pm-2019-class-list-displayed/
END:VEVENT
END:VCALENDAR