BEGIN:VCALENDAR
VERSION:2.0
PRODID:-//eventon.com NONSGML v1.0//EN
CALSCALE:GREGORIAN
METHOD:PUBLISH
BEGIN:VEVENT
UID:69ebb2ece8ba9
DTSTAMP:20260424T181404Z
DTSTART:20190211T080000Z
DTEND:20190215T140000Z
LOCATION:
SUMMARY:Class Teacher/Parent Meetings
DESCRIPTION:Class Teacher/Parent Meetings Week\nhttps://woodlandgroveps.wa.
 edu.au/events/class-teacher-parent-meetings/
URL:https://woodlandgroveps.wa.edu.au/events/class-teacher-parent-meetings/
END:VEVENT
END:VCALENDAR