BEGIN:VCALENDAR
VERSION:2.0
PRODID:-//eventon.com NONSGML v1.0//EN
CALSCALE:GREGORIAN
METHOD:PUBLISH
BEGIN:VEVENT
UID:69ebb354a1283
DTSTAMP:20260424T181548Z
DTSTART:20181214T080000Z
DTEND:20181214T143000Z
LOCATION:
SUMMARY:Pupil Free Day
DESCRIPTION:Pupil Free Day Friday 14th December.\nhttps://woodlandgroveps.w
 a.edu.au/events/pupil-free-day-14/
URL:https://woodlandgroveps.wa.edu.au/events/pupil-free-day-14/
END:VEVENT
END:VCALENDAR