BEGIN:VCALENDAR
VERSION:2.0
PRODID:-//eventon.com NONSGML v1.0//EN
CALSCALE:GREGORIAN
METHOD:PUBLISH
BEGIN:VEVENT
UID:69ebb2cd2655b
DTSTAMP:20260424T181333Z
DTSTART:20181101T092000Z
DTEND:20181101T093000Z
LOCATION:
SUMMARY:Music Count Us In
DESCRIPTION:Music Count Us In &#8211; Celebration Day 9:20am\nhttps://woodl
 andgroveps.wa.edu.au/events/music-count-us-in/
URL:https://woodlandgroveps.wa.edu.au/events/music-count-us-in/
END:VEVENT
END:VCALENDAR