BEGIN:VCALENDAR
VERSION:2.0
PRODID:-//eventon.com NONSGML v1.0//EN
CALSCALE:GREGORIAN
METHOD:PUBLISH
BEGIN:VEVENT
UID:69ebb04f31cbc
DTSTAMP:20260424T180255Z
DTSTART:20180816T190000Z
DTEND:20180816T200000Z
LOCATION:Woodland Grove Primary School 15 McMILLAN ROAD\,  BYFORD WA 6122
SUMMARY:P&C
DESCRIPTION:P&amp;C Meeting 7pm Woodland Grove Board Room\nhttps://woodland
 groveps.wa.edu.au/events/pc/
URL:https://woodlandgroveps.wa.edu.au/events/pc/
END:VEVENT
END:VCALENDAR