BEGIN:VCALENDAR
VERSION:2.0
PRODID:-//eventon.com NONSGML v1.0//EN
CALSCALE:GREGORIAN
METHOD:PUBLISH
BEGIN:VEVENT
UID:69ebb0eece4a6
DTSTAMP:20260424T180534Z
DTSTART:20180813T080000Z
DTEND:20180817T140000Z
LOCATION:Woodland Grove Primary School 15 McMILLAN ROAD\,  BYFORD WA 6122
SUMMARY:Science Week
DESCRIPTION:Science Week 13th August to 17th August\nhttps://woodlandgrovep
 s.wa.edu.au/events/science-week/
URL:https://woodlandgroveps.wa.edu.au/events/science-week/
END:VEVENT
END:VCALENDAR