BEGIN:VCALENDAR
VERSION:2.0
PRODID:-//eventon.com NONSGML v1.0//EN
CALSCALE:GREGORIAN
METHOD:PUBLISH
BEGIN:VEVENT
UID:69ebb31108e8f
DTSTAMP:20260424T181441Z
DTSTART:20190204T083000Z
DTEND:20190204T010000Z
LOCATION:Woodland Grove Primary School 15 McMILLAN ROAD\,  BYFORD WA 6122
SUMMARY:First Day of school 2019
DESCRIPTION:First Day of school 2019 Includes first day for Kindy Teal Kind
 y Gold start on Wednesday 6th of February 2019\nhttps://woodlandgroveps.wa.
 edu.au/events/first-day-of-school-2019/
URL:https://woodlandgroveps.wa.edu.au/events/first-day-of-school-2019/
END:VEVENT
END:VCALENDAR