BEGIN:VCALENDAR
VERSION:2.0
PRODID:-//eventon.com NONSGML v1.0//EN
CALSCALE:GREGORIAN
METHOD:PUBLISH
BEGIN:VEVENT
UID:69e74a5de807b
DTSTAMP:20260421T095853Z
DTSTART:20180524T160000Z
DTEND:20180524T010000Z
LOCATION:Woodland Grove Primary School 15 McMILLAN ROAD\,  BYFORD WA 6122
SUMMARY:School Board 4pm
DESCRIPTION:School Board 4pm\nhttps://woodlandgroveps.wa.edu.au/events/scho
 ol-board-4pm/
URL:https://woodlandgroveps.wa.edu.au/events/school-board-4pm/
END:VEVENT
END:VCALENDAR