BEGIN:VCALENDAR
VERSION:2.0
PRODID:-//eventon.com NONSGML v1.0//EN
CALSCALE:GREGORIAN
METHOD:PUBLISH
BEGIN:VEVENT
UID:69e606e4e71d2
DTSTAMP:20260420T105844Z
DTSTART:20180504T080000Z
DTEND:20180504T140000Z
LOCATION:Woodland Grove Primary School 15 McMILLAN ROAD\,  BYFORD WA 6122
SUMMARY:Star Wars Day
DESCRIPTION:Star Wars Day – Gold coin donation\nhttps://woodlandgroveps.w
 a.edu.au/events/star-wars-day/
URL:https://woodlandgroveps.wa.edu.au/events/star-wars-day/
END:VEVENT
END:VCALENDAR