BEGIN:VCALENDAR
VERSION:2.0
PRODID:-//eventon.com NONSGML v1.0//EN
CALSCALE:GREGORIAN
METHOD:PUBLISH
BEGIN:VEVENT
UID:69ebae73cce19
DTSTAMP:20260424T175459Z
DTSTART:20171213T120000Z
DTEND:20171213T010000Z
LOCATION:
SUMMARY:Year 6 Leavers Brunch
DESCRIPTION:\nhttps://woodlandgroveps.wa.edu.au/events/year-6-graduation-lu
 nchmorning-tea/
URL:https://woodlandgroveps.wa.edu.au/events/year-6-graduation-lunchmorning-tea/
END:VEVENT
END:VCALENDAR