BEGIN:VCALENDAR
VERSION:2.0
PRODID:-//eventon.com NONSGML v1.0//EN
CALSCALE:GREGORIAN
METHOD:PUBLISH
BEGIN:VEVENT
UID:69ebae5fadee5
DTSTAMP:20260424T175439Z
DTSTART:20171031T080000Z
DTEND:20171031T010000Z
LOCATION:
SUMMARY:Multi culture Day
DESCRIPTION:Multi Culture Day\nhttps://woodlandgroveps.wa.edu.au/events/mul
 ti-culture-day/
URL:https://woodlandgroveps.wa.edu.au/events/multi-culture-day/
END:VEVENT
END:VCALENDAR