BEGIN:VCALENDAR
VERSION:2.0
PRODID:-//eventon.com NONSGML v1.0//EN
CALSCALE:GREGORIAN
METHOD:PUBLISH
BEGIN:VEVENT
UID:69ebae61337cd
DTSTAMP:20260424T175441Z
DTSTART:20170824T010000Z
DTEND:20170824T010000Z
LOCATION:
SUMMARY:WAGSMS Choir Performance\,  Mandurah TBA
DESCRIPTION:West Australia Government Schools Music Society\nhttps://woodla
 ndgroveps.wa.edu.au/events/wagsms-choir-performance-mandurah-tba/
URL:https://woodlandgroveps.wa.edu.au/events/wagsms-choir-performance-mandurah-tba/
END:VEVENT
END:VCALENDAR