BEGIN:VCALENDAR
VERSION:2.0
PRODID:-//eventon.com NONSGML v1.0//EN
CALSCALE:GREGORIAN
METHOD:PUBLISH
BEGIN:VEVENT
UID:69ebb354a428c
DTSTAMP:20260424T181548Z
DTSTART:20170726T190000Z
DTEND:20170726T010000Z
LOCATION:
SUMMARY:P & C Meeting - 7pm
DESCRIPTION:P & C Meeting - 7pm\nhttps://woodlandgroveps.wa.edu.au/events/p
 -c-meeting-7pm/
URL:https://woodlandgroveps.wa.edu.au/events/p-c-meeting-7pm/
END:VEVENT
END:VCALENDAR