BEGIN:VCALENDAR
VERSION:2.0
PRODID:-//eventon.com NONSGML v1.0//EN
CALSCALE:GREGORIAN
METHOD:PUBLISH
BEGIN:VEVENT
UID:69ebad129ad8d
DTSTAMP:20260424T174906Z
DTSTART:20171027T130000Z
DTEND:20171027T010000Z
LOCATION:Woodland Grove Primary School 15 McMILLAN ROAD\,  BYFORD WA 6122
SUMMARY:Colour Run - P&C and Free dress
DESCRIPTION:Colour Run - P&C and Free dress\nhttps://woodlandgroveps.wa.edu
 .au/events/colour-run-pc/
URL:https://woodlandgroveps.wa.edu.au/events/colour-run-pc/
END:VEVENT
END:VCALENDAR