BEGIN:VCALENDAR
VERSION:2.0
PRODID:-//eventon.com NONSGML v1.0//EN
CALSCALE:GREGORIAN
METHOD:PUBLISH
BEGIN:VEVENT
UID:69ebae5faa678
DTSTAMP:20260424T175439Z
DTSTART:20170901T080000Z
DTEND:20170901T010000Z
LOCATION:
SUMMARY:Fathers Day Raffle Drawn...
DESCRIPTION:And the WINNER is&#8230;&#8230;.\nhttps://woodlandgroveps.wa.ed
 u.au/events/fathers-day-raffle-drawn/
URL:https://woodlandgroveps.wa.edu.au/events/fathers-day-raffle-drawn/
END:VEVENT
END:VCALENDAR