BEGIN:VCALENDAR
VERSION:2.0
PRODID:-//eventon.com NONSGML v1.0//EN
CALSCALE:GREGORIAN
METHOD:PUBLISH
BEGIN:VEVENT
UID:69ebae6196d0b
DTSTAMP:20260424T175441Z
DTSTART:20170830T080000Z
DTEND:20170830T010000Z
LOCATION:
SUMMARY:Fathers Day Raffle Closed
DESCRIPTION:Fathers Day Raffle closes today\nhttps://woodlandgroveps.wa.edu
 .au/events/fathers-day-raffle-closed/
URL:https://woodlandgroveps.wa.edu.au/events/fathers-day-raffle-closed/
END:VEVENT
END:VCALENDAR