BEGIN:VCALENDAR
VERSION:2.0
PRODID:-//eventon.com NONSGML v1.0//EN
CALSCALE:GREGORIAN
METHOD:PUBLISH
BEGIN:VEVENT
UID:69e77060bd957
DTSTAMP:20260421T124104Z
DTSTART:20250618T134500Z
DTEND:20250618T022000Z
LOCATION:
SUMMARY:Assembly BR2 Yr 3 & 4
DESCRIPTION:Assembly BR2 Yr 3 & 4\nhttps://woodlandgroveps.wa.edu.au/events
 /assembly-br2-yr-34/
URL:https://woodlandgroveps.wa.edu.au/events/assembly-br2-yr-34/
END:VEVENT
END:VCALENDAR