BEGIN:VCALENDAR
VERSION:2.0
PRODID:-//eventon.com NONSGML v1.0//EN
CALSCALE:GREGORIAN
METHOD:PUBLISH
BEGIN:VEVENT
UID:69e737455b1fe
DTSTAMP:20260421T083725Z
DTSTART:20250609T083000Z
DTEND:20250613T143000Z
LOCATION:
SUMMARY:Swimming Week 3 - Group 2
DESCRIPTION:Swimming Week 3 - Group 2\nhttps://woodlandgroveps.wa.edu.au/ev
 ents/swimming-week-3-2/
URL:https://woodlandgroveps.wa.edu.au/events/swimming-week-3-2/
END:VEVENT
END:VCALENDAR