BEGIN:VCALENDAR
VERSION:2.0
PRODID:-//eventon.com NONSGML v1.0//EN
CALSCALE:GREGORIAN
METHOD:PUBLISH
BEGIN:VEVENT
UID:69e4e3a732fe9
DTSTAMP:20260419T141607Z
DTSTART:20250219T134500Z
DTEND:20250219T142000Z
LOCATION:
SUMMARY:Pony Club 4 Assembly
DESCRIPTION:Pony Club 4 Assembly\nhttps://woodlandgroveps.wa.edu.au/events/
 pony-club-4-assembly/
URL:https://woodlandgroveps.wa.edu.au/events/pony-club-4-assembly/
END:VEVENT
END:VCALENDAR