BEGIN:VCALENDAR
VERSION:2.0
PRODID:-//eventon.com NONSGML v1.0//EN
CALSCALE:GREGORIAN
METHOD:PUBLISH
BEGIN:VEVENT
UID:69e735ecb85f9
DTSTAMP:20260421T083140Z
DTSTART:20230830T054000Z
DTEND:20230830T062000Z
LOCATION:
SUMMARY:Assembly - Clydesdale
DESCRIPTION:\nhttps://woodlandgroveps.wa.edu.au/events/assembly-clydesdale/
URL:https://woodlandgroveps.wa.edu.au/events/assembly-clydesdale/
END:VEVENT
END:VCALENDAR